BEGIN:VCALENDAR
VERSION:2.0
PRODID:-//Seeds of Hope - ECPv6.0.5//NONSGML v1.0//EN
CALSCALE:GREGORIAN
METHOD:PUBLISH
X-WR-CALNAME:Seeds of Hope
X-ORIGINAL-URL:https://seedsofhopesd.org
X-WR-CALDESC:Events for Seeds of Hope
REFRESH-INTERVAL;VALUE=DURATION:PT1H
X-Robots-Tag:noindex
X-PUBLISHED-TTL:PT1H
BEGIN:VTIMEZONE
TZID:America/Los_Angeles
BEGIN:DAYLIGHT
TZOFFSETFROM:-0800
TZOFFSETTO:-0700
TZNAME:PDT
DTSTART:20190310T100000
END:DAYLIGHT
BEGIN:STANDARD
TZOFFSETFROM:-0700
TZOFFSETTO:-0800
TZNAME:PST
DTSTART:20191103T090000
END:STANDARD
BEGIN:DAYLIGHT
TZOFFSETFROM:-0800
TZOFFSETTO:-0700
TZNAME:PDT
DTSTART:20200308T100000
END:DAYLIGHT
BEGIN:STANDARD
TZOFFSETFROM:-0700
TZOFFSETTO:-0800
TZNAME:PST
DTSTART:20201101T090000
END:STANDARD
END:VTIMEZONE
BEGIN:VEVENT
DTSTART;TZID=America/Los_Angeles:20190910T153000
DTEND;TZID=America/Los_Angeles:20190910T173000
DTSTAMP:20260425T045105
CREATED:20191202T213715Z
LAST-MODIFIED:20191202T213715Z
UID:250-1568129400-1568136600@seedsofhopesd.org
SUMMARY:Tutoring at the Rock Church in City Heights
DESCRIPTION:
URL:https://seedsofhopesd.org/event/tutoring-at-the-rock-church-in-city-heights/
END:VEVENT
BEGIN:VEVENT
DTSTART;TZID=America/Los_Angeles:20190917T153000
DTEND;TZID=America/Los_Angeles:20190917T173000
DTSTAMP:20260425T045105
CREATED:20191202T213937Z
LAST-MODIFIED:20191202T213937Z
UID:252-1568734200-1568741400@seedsofhopesd.org
SUMMARY:Tutoring at The Rock Church in City Heights
DESCRIPTION:
URL:https://seedsofhopesd.org/event/tutoring-at-the-rock-church-in-city-heights-2/
END:VEVENT
BEGIN:VEVENT
DTSTART;TZID=America/Los_Angeles:20191001T153000
DTEND;TZID=America/Los_Angeles:20191001T173000
DTSTAMP:20260425T045105
CREATED:20191202T214545Z
LAST-MODIFIED:20191202T214545Z
UID:266-1569943800-1569951000@seedsofhopesd.org
SUMMARY:Tutoring at The Rock Church in City Heights
DESCRIPTION:
URL:https://seedsofhopesd.org/event/tutoring-at-the-rock-church-in-city-heights-7/
END:VEVENT
BEGIN:VEVENT
DTSTART;TZID=America/Los_Angeles:20191008T153000
DTEND;TZID=America/Los_Angeles:20191008T173000
DTSTAMP:20260425T045105
CREATED:20191202T214623Z
LAST-MODIFIED:20191202T214623Z
UID:267-1570548600-1570555800@seedsofhopesd.org
SUMMARY:Tutoring at The Rock Church in City Heights
DESCRIPTION:
URL:https://seedsofhopesd.org/event/tutoring-at-the-rock-church-in-city-heights-8/
END:VEVENT
BEGIN:VEVENT
DTSTART;TZID=America/Los_Angeles:20191015T153000
DTEND;TZID=America/Los_Angeles:20191015T173000
DTSTAMP:20260425T045105
CREATED:20191202T214709Z
LAST-MODIFIED:20191202T214709Z
UID:268-1571153400-1571160600@seedsofhopesd.org
SUMMARY:Tutoring at The Rock Church in City Heights
DESCRIPTION:
URL:https://seedsofhopesd.org/event/tutoring-at-the-rock-church-in-city-heights-9/
END:VEVENT
BEGIN:VEVENT
DTSTART;TZID=America/Los_Angeles:20191105T153000
DTEND;TZID=America/Los_Angeles:20191105T173000
DTSTAMP:20260425T045105
CREATED:20191202T214346Z
LAST-MODIFIED:20191202T214346Z
UID:264-1572967800-1572975000@seedsofhopesd.org
SUMMARY:Tutoring at The Rock Church in City Heights
DESCRIPTION:
URL:https://seedsofhopesd.org/event/tutoring-at-the-rock-church-in-city-heights-5/
END:VEVENT
BEGIN:VEVENT
DTSTART;TZID=America/Los_Angeles:20191112T153000
DTEND;TZID=America/Los_Angeles:20191112T170000
DTSTAMP:20260425T045105
CREATED:20191202T214444Z
LAST-MODIFIED:20191202T214444Z
UID:265-1573572600-1573578000@seedsofhopesd.org
SUMMARY:Tutoring at The Rock Church in City Heights
DESCRIPTION:
URL:https://seedsofhopesd.org/event/tutoring-at-the-rock-church-in-city-heights-6/
END:VEVENT
BEGIN:VEVENT
DTSTART;TZID=America/Los_Angeles:20191203T153000
DTEND;TZID=America/Los_Angeles:20191203T173000
DTSTAMP:20260425T045105
CREATED:20191202T214020Z
LAST-MODIFIED:20191202T214020Z
UID:253-1575387000-1575394200@seedsofhopesd.org
SUMMARY:Tutoring at The Rock Church in City Heights
DESCRIPTION:
URL:https://seedsofhopesd.org/event/tutoring-at-the-rock-church-in-city-heights-3/
END:VEVENT
BEGIN:VEVENT
DTSTART;TZID=America/Los_Angeles:20191210T153000
DTEND;TZID=America/Los_Angeles:20191210T173000
DTSTAMP:20260425T045105
CREATED:20191202T214248Z
LAST-MODIFIED:20191202T214248Z
UID:263-1575991800-1575999000@seedsofhopesd.org
SUMMARY:Tutoring at The Rock Church in City Heights
DESCRIPTION:
URL:https://seedsofhopesd.org/event/tutoring-at-the-rock-church-in-city-heights-4/
END:VEVENT
BEGIN:VEVENT
DTSTART;TZID=America/Los_Angeles:20191210T190000
DTEND;TZID=America/Los_Angeles:20191210T210000
DTSTAMP:20260425T045105
CREATED:20191202T215713Z
LAST-MODIFIED:20191202T215713Z
UID:277-1576004400-1576011600@seedsofhopesd.org
SUMMARY:Take kids Venture Middle school Christmas party
DESCRIPTION:
URL:https://seedsofhopesd.org/event/take-kids-venture-middle-school-christmas-party/
END:VEVENT
BEGIN:VEVENT
DTSTART;TZID=America/Los_Angeles:20191211T180000
DTEND;TZID=America/Los_Angeles:20191211T210000
DTSTAMP:20260425T045105
CREATED:20191202T215159Z
LAST-MODIFIED:20191202T215159Z
UID:272-1576087200-1576098000@seedsofhopesd.org
SUMMARY:Christmas Tea at Venture
DESCRIPTION:
URL:https://seedsofhopesd.org/event/christmas-tea-at-venture/
END:VEVENT
BEGIN:VEVENT
DTSTART;TZID=America/Los_Angeles:20191213T173000
DTEND;TZID=America/Los_Angeles:20191213T210000
DTSTAMP:20260425T045105
CREATED:20191202T215049Z
LAST-MODIFIED:20191202T215049Z
UID:271-1576258200-1576270800@seedsofhopesd.org
SUMMARY:Seeds of Hope Christmas Party
DESCRIPTION:
URL:https://seedsofhopesd.org/event/seeds-of-hope-christmas-party/
END:VEVENT
BEGIN:VEVENT
DTSTART;TZID=America/Los_Angeles:20191219T170000
DTEND;TZID=America/Los_Angeles:20191219T200000
DTSTAMP:20260425T045105
CREATED:20191202T215257Z
LAST-MODIFIED:20191202T215257Z
UID:273-1576774800-1576785600@seedsofhopesd.org
SUMMARY:Take kids to The Living Nativity
DESCRIPTION:
URL:https://seedsofhopesd.org/event/take-kids-to-the-living-nativity/
END:VEVENT
BEGIN:VEVENT
DTSTART;TZID=America/Los_Angeles:20191220T170000
DTEND;TZID=America/Los_Angeles:20191220T210000
DTSTAMP:20260425T045105
CREATED:20191202T215340Z
LAST-MODIFIED:20191202T215340Z
UID:274-1576861200-1576875600@seedsofhopesd.org
SUMMARY:Take kids to The Living Nativity
DESCRIPTION:
URL:https://seedsofhopesd.org/event/take-kids-to-the-living-nativity-2/
END:VEVENT
BEGIN:VEVENT
DTSTART;TZID=America/Los_Angeles:20191221T170000
DTEND;TZID=America/Los_Angeles:20191221T210000
DTSTAMP:20260425T045105
CREATED:20191202T215413Z
LAST-MODIFIED:20191202T215413Z
UID:275-1576947600-1576962000@seedsofhopesd.org
SUMMARY:Take kids to The Living Nativity
DESCRIPTION:
URL:https://seedsofhopesd.org/event/take-kids-to-the-living-nativity-3/
END:VEVENT
BEGIN:VEVENT
DTSTART;TZID=America/Los_Angeles:20191227T170000
DTEND;TZID=America/Los_Angeles:20191227T210000
DTSTAMP:20260425T045105
CREATED:20191203T054350Z
LAST-MODIFIED:20191203T054350Z
UID:278-1577466000-1577480400@seedsofhopesd.org
SUMMARY:Game Night
DESCRIPTION:
URL:https://seedsofhopesd.org/event/game-night/
END:VEVENT
BEGIN:VEVENT
DTSTART;TZID=America/Los_Angeles:20200121T153000
DTEND;TZID=America/Los_Angeles:20200121T173000
DTSTAMP:20260425T045105
CREATED:20191203T054736Z
LAST-MODIFIED:20191203T054902Z
UID:281-1579620600-1579627800@seedsofhopesd.org
SUMMARY:Tutoring at The Rock
DESCRIPTION:
URL:https://seedsofhopesd.org/event/tuesday-tutoring/
END:VEVENT
BEGIN:VEVENT
DTSTART;TZID=America/Los_Angeles:20200125T100000
DTEND;TZID=America/Los_Angeles:20200125T120000
DTSTAMP:20260425T045105
CREATED:20191203T054513Z
LAST-MODIFIED:20191203T054513Z
UID:279-1579946400-1579953600@seedsofhopesd.org
SUMMARY:Practice Interview Day
DESCRIPTION:
URL:https://seedsofhopesd.org/event/practice-interview-day-2/
END:VEVENT
BEGIN:VEVENT
DTSTART;TZID=America/Los_Angeles:20200128T153000
DTEND;TZID=America/Los_Angeles:20200128T173000
DTSTAMP:20260425T045105
CREATED:20191203T054809Z
LAST-MODIFIED:20191203T054930Z
UID:282-1580225400-1580232600@seedsofhopesd.org
SUMMARY:Tutoring at The Rock
DESCRIPTION:
URL:https://seedsofhopesd.org/event/tuesday-tutoring-2/
END:VEVENT
END:VCALENDAR